BEGIN:VCALENDAR
VERSION:2.0
PRODID:Mercadinho de Natal
X-WR-CALNAME:Mercadinho de Natal
X-WR-TIMEZONE:Europe/Lisbon
X-PUBLISHED-TTL:P1W
BEGIN:VTIMEZONE
TZID:Europe/Lisbon
X-LIC-LOCATION:Europe/Lisbon
END:VTIMEZONE
BEGIN:VEVENT
UID:69ea2131da8b2
DTSTART;VALUE=DATE:20251206
SEQUENCE:0
TRANSP:OPAQUE
DTEND;VALUE=DATE:20251207
SUMMARY:Mercadinho de Natal
CLASS:PUBLIC
DESCRIPTION:Mercadinho de Natal de Távora Santa Maria e São Vicente????  
 06\, 07 e 08 de dezembro – &nbsp\;Parque de Távora – “Távora com S
 entido “A magia do Natal vai encher as ruas de Távora Santa Maria e Sã
 o Vicente! Este ano\, queremos reunir toda a nossa comunidade num evento e
 special\, pensado com carinho para todas as idades\, onde a tradição\, a
  partilha e o espírito natalício se encontram.Durante três dias\, o nos
 so Mercadinho de Natal será um ponto de encontro acolhedor\, cheio de vid
 a e alegria. Teremos comida\, bebida e doces que aquecem o coração\, bem
  como a venda de produtos locais\, feitos com dedicação pelos nossos art
 esãos e produtores\, uma forma de apoiar o que é nosso e valorizar o mel
 hor da nossa terra.A animação será constante e para todos os gostos! Po
 derão desfrutar de:·&nbsp\;&nbsp\;&nbsp\;&nbsp\;&nbsp\;&nbsp\;&nbsp\; At
 uações do Grupo Coral\;·&nbsp\;&nbsp\;&nbsp\;&nbsp\;&nbsp\;&nbsp\;&nbsp
 \; A energia da Rusga de Távora\;·&nbsp\;&nbsp\;&nbsp\;&nbsp\;&nbsp\;&nb
 sp\;&nbsp\; A força e tradição do Grupo de Bombos\;·&nbsp\;&nbsp\;&nbs
 p\;&nbsp\;&nbsp\;&nbsp\;&nbsp\; A música vibrante da Banda Arcuense\;·&n
 bsp\;&nbsp\;&nbsp\;&nbsp\;&nbsp\;&nbsp\;&nbsp\; Workshops de inglês e ati
 vidades para crianças\;·&nbsp\;&nbsp\;&nbsp\;&nbsp\;&nbsp\;&nbsp\;&nbsp\
 ; Uma palestra sobre o mundo do futebol\;·&nbsp\;&nbsp\;&nbsp\;&nbsp\;&nb
 sp\;&nbsp\;&nbsp\; A apresentação de um livro.E muitas outras surpresas 
 preparadas com dedicação\, como a inauguração da Árvore de Natal e a 
 chegada do Pai Natal.Queremos que cada pessoa sinta que faz parte desta qu
 adra mágica. Que cada visita seja um momento de encontro\, de família\, 
 de amizade e de valorização da nossa cultura.Contamos consigo para fazer
  deste Mercadinho de Natal um momento inesquecível para toda a freguesia.
  Traga a família\, os amigos e o coração aberto para celebrar connosco!
 Junta de Freguesia de Távora Santa Maria e São VicenteA construir tradi
 ções\, juntos.                                    &nbsp\;
X-MICROSOFT-CDO-ALLDAYEVENT:TRUE
DTSTAMP:20260423T134001Z
END:VEVENT
END:VCALENDAR