BEGIN:VCALENDAR
VERSION:2.0
PRODID:Rainha das Vindimas 2026
X-WR-CALNAME:Rainha das Vindimas 2026
X-WR-TIMEZONE:Europe/Lisbon
X-PUBLISHED-TTL:P1W
BEGIN:VTIMEZONE
TZID:Europe/Lisbon
X-LIC-LOCATION:Europe/Lisbon
END:VTIMEZONE
BEGIN:VEVENT
UID:69ea218a6d47b
DTSTART;VALUE=DATE:20260321
SEQUENCE:0
TRANSP:OPAQUE
DTEND;VALUE=DATE:20260322
SUMMARY:Rainha das Vindimas 2026
CLASS:PUBLIC
DESCRIPTION:Na edição da Rainha das Vindimas 2026\, a nossa União de Tá
 vora Santa Maria e São Vicente\, será representada pela Ana Rita Amorim.
 Convidamos toda a população a participar na eleição da Rainha das Vind
 imas\, um evento que celebra as nossas tradições\, a cultura da vinha e 
 o orgulho da nossa terra.Vamos apoiar a nossa Rita e desfrutar de uma noit
 e memorável21 de Março 202621h30mLargo da Ponte Nova - Arcos de Valdevez
X-MICROSOFT-CDO-ALLDAYEVENT:TRUE
DTSTAMP:20260423T134130Z
END:VEVENT
END:VCALENDAR